BEGIN:VCALENDAR
VERSION:2.0
PRODID:-//Running Team Bad Ems - ECPv6.15.20//NONSGML v1.0//EN
CALSCALE:GREGORIAN
METHOD:PUBLISH
X-WR-CALNAME:Running Team Bad Ems
X-ORIGINAL-URL:https://www.rt-bad-ems.de
X-WR-CALDESC:Veranstaltungen für Running Team Bad Ems
REFRESH-INTERVAL;VALUE=DURATION:PT1H
X-Robots-Tag:noindex
X-PUBLISHED-TTL:PT1H
BEGIN:VTIMEZONE
TZID:Europe/Paris
BEGIN:DAYLIGHT
TZOFFSETFROM:+0100
TZOFFSETTO:+0200
TZNAME:CEST
DTSTART:20240331T010000
END:DAYLIGHT
BEGIN:STANDARD
TZOFFSETFROM:+0200
TZOFFSETTO:+0100
TZNAME:CET
DTSTART:20241027T010000
END:STANDARD
BEGIN:DAYLIGHT
TZOFFSETFROM:+0100
TZOFFSETTO:+0200
TZNAME:CEST
DTSTART:20250330T010000
END:DAYLIGHT
BEGIN:STANDARD
TZOFFSETFROM:+0200
TZOFFSETTO:+0100
TZNAME:CET
DTSTART:20251026T010000
END:STANDARD
BEGIN:DAYLIGHT
TZOFFSETFROM:+0100
TZOFFSETTO:+0200
TZNAME:CEST
DTSTART:20260329T010000
END:DAYLIGHT
BEGIN:STANDARD
TZOFFSETFROM:+0200
TZOFFSETTO:+0100
TZNAME:CET
DTSTART:20261025T010000
END:STANDARD
END:VTIMEZONE
BEGIN:VEVENT
DTSTART;TZID=Europe/Paris:20250412T140000
DTEND;TZID=Europe/Paris:20250412T170000
DTSTAMP:20260424T200622
CREATED:20241008T120833Z
LAST-MODIFIED:20241008T120833Z
UID:1667-1744466400-1744477200@www.rt-bad-ems.de
SUMMARY:Run Up
DESCRIPTION:RunUp\, Samstag\, 11. April: Wie immer verabschiedet sich das Running Team vom Winterhalbjahr. Treffpunkt um 14 Uhr im Kurpark auf Höhe der ehemaligen Post.
URL:https://www.rt-bad-ems.de/event/run-up-4
END:VEVENT
END:VCALENDAR