BEGIN:VCALENDAR
VERSION:2.0
PRODID:-//Running Team Bad Ems - ECPv6.15.20//NONSGML v1.0//EN
CALSCALE:GREGORIAN
METHOD:PUBLISH
X-ORIGINAL-URL:https://www.rt-bad-ems.de
X-WR-CALDESC:Veranstaltungen für Running Team Bad Ems
REFRESH-INTERVAL;VALUE=DURATION:PT1H
X-Robots-Tag:noindex
X-PUBLISHED-TTL:PT1H
BEGIN:VTIMEZONE
TZID:Europe/Paris
BEGIN:DAYLIGHT
TZOFFSETFROM:+0100
TZOFFSETTO:+0200
TZNAME:CEST
DTSTART:20250330T010000
END:DAYLIGHT
BEGIN:STANDARD
TZOFFSETFROM:+0200
TZOFFSETTO:+0100
TZNAME:CET
DTSTART:20251026T010000
END:STANDARD
BEGIN:DAYLIGHT
TZOFFSETFROM:+0100
TZOFFSETTO:+0200
TZNAME:CEST
DTSTART:20260329T010000
END:DAYLIGHT
BEGIN:STANDARD
TZOFFSETFROM:+0200
TZOFFSETTO:+0100
TZNAME:CET
DTSTART:20261025T010000
END:STANDARD
BEGIN:DAYLIGHT
TZOFFSETFROM:+0100
TZOFFSETTO:+0200
TZNAME:CEST
DTSTART:20270328T010000
END:DAYLIGHT
BEGIN:STANDARD
TZOFFSETFROM:+0200
TZOFFSETTO:+0100
TZNAME:CET
DTSTART:20271031T010000
END:STANDARD
END:VTIMEZONE
BEGIN:VEVENT
DTSTART;TZID=Europe/Paris:20260411T140000
DTEND;TZID=Europe/Paris:20260411T170000
DTSTAMP:20260420T162945
CREATED:20260316T112738Z
LAST-MODIFIED:20260316T112738Z
UID:2034-1775916000-1775926800@www.rt-bad-ems.de
SUMMARY:RunUp im Kurpark Bad Em
DESCRIPTION:Alle Jahre wieder begrüßen die Hobbyläufer des Running Team Bad Ems gemeinsam mit möglichst vielen Laufbegeisterten die Sommersaison mit dem RunUp im Kurpark. Wie immer wird nach einem kurzen Lauf rund um den Kurpark wieder bei Kaffee und Kuchen zusammengesessen. Kuchenspenden sind natürlich erwünscht. Nach dem RunUp wird ab Dienstag\, 14. April\, der Lauftreff wieder auf den herrlichen Waldwegen auf der Denzerheide stattfinden. Die Lauftrefftermine sind wie gewohnt dienstags und freitags jeweils um 19 Uhr.
URL:https://www.rt-bad-ems.de/event/runup-im-kurpark-bad-em
END:VEVENT
END:VCALENDAR