BEGIN:VCALENDAR
VERSION:2.0
PRODID:-//Running Team Bad Ems - ECPv6.15.20//NONSGML v1.0//EN
CALSCALE:GREGORIAN
METHOD:PUBLISH
X-WR-CALNAME:Running Team Bad Ems
X-ORIGINAL-URL:https://www.rt-bad-ems.de
X-WR-CALDESC:Veranstaltungen für Running Team Bad Ems
REFRESH-INTERVAL;VALUE=DURATION:PT1H
X-Robots-Tag:noindex
X-PUBLISHED-TTL:PT1H
BEGIN:VTIMEZONE
TZID:Europe/Paris
BEGIN:DAYLIGHT
TZOFFSETFROM:+0100
TZOFFSETTO:+0200
TZNAME:CEST
DTSTART:20240331T010000
END:DAYLIGHT
BEGIN:STANDARD
TZOFFSETFROM:+0200
TZOFFSETTO:+0100
TZNAME:CET
DTSTART:20241027T010000
END:STANDARD
BEGIN:DAYLIGHT
TZOFFSETFROM:+0100
TZOFFSETTO:+0200
TZNAME:CEST
DTSTART:20250330T010000
END:DAYLIGHT
BEGIN:STANDARD
TZOFFSETFROM:+0200
TZOFFSETTO:+0100
TZNAME:CET
DTSTART:20251026T010000
END:STANDARD
BEGIN:DAYLIGHT
TZOFFSETFROM:+0100
TZOFFSETTO:+0200
TZNAME:CEST
DTSTART:20260329T010000
END:DAYLIGHT
BEGIN:STANDARD
TZOFFSETFROM:+0200
TZOFFSETTO:+0100
TZNAME:CET
DTSTART:20261025T010000
END:STANDARD
END:VTIMEZONE
BEGIN:VEVENT
DTSTART;TZID=Europe/Paris:20251129T173000
DTEND;TZID=Europe/Paris:20251129T230000
DTSTAMP:20260422T120039
CREATED:20251105T102531Z
LAST-MODIFIED:20251109T141539Z
UID:1880-1764437400-1764457200@www.rt-bad-ems.de
SUMMARY:Weihnachtsfeier in der Kreuzmühle
DESCRIPTION:Treffpunkt ist um 17:30 Uhr an der Kreuzmühle  . Von dort starten wir zu einem Mondscheinspaziergang rund die Kreuzmühle\, die mit einem Glühwein zur Einstimmung auf die Weihnachtsfeier endet . \nWichtig : Bitte eine Stirn – oder Taschenlampe mitbringen . \nDie Weihnachtsfeier in der Kreuzmühle beginnt um 19:00 Uhr in der Kreuzmühle mit einem Sekt zur Begrüßung (Kosten übernimmt der Verein ). \nDas Abendessen wird vom Verein wie immer großzügig finanziell unterstützt\, sodass sich für Mitglieder der Betrag verringert. Für Mitglieder kostet das Menü 20 € ( statt 30 € ). \nDas Essen: \nFür alle gibt es eine Suppe\, Salat und einen Nachtisch. \nZum Hauptgericht werden Butterspätzle\, Kartoffelgratin\, Kroketten\, Pommes Frites und Gemüse gereicht. \nHauptgerichte zur Auswahl : \n\nSchweinemedaillons mit Champignons\nPutenschnitzel „Florida“ mit Pfirsich und Hollandaise\nArgentinisches Rumsteak mit Zwiebeln\nGebratenes Zanderfilet \nCordon bleu\nBlumenkohlmedaillons (vegetarisch)
URL:https://www.rt-bad-ems.de/event/weihnachtsfeier-in-der-kreuzmuehle-2
ATTACH;FMTTYPE=image/jpeg:https://www.rt-bad-ems.de/wp-content/uploads/2022/10/weihnachten.jpg
END:VEVENT
END:VCALENDAR